BEGIN:VCALENDAR
VERSION:2.0
PRODID:-//Plone.org//NONSGML plone.app.event//EN
X-WR-TIMEZONE:Europe/Madrid
BEGIN:VEVENT
SUMMARY:Bio-TUNE Final Meeting and Symposium
DTSTART;VALUE=DATE:20241125
DTEND;VALUE=DATE:20241130
DTSTAMP:20260425T033005Z
UID:fdb7db10e3d14cfca7bd7e02632fd1fe@biotune.upc.edu
CONTACT:Noelia Aparicio\, +34934010717\, noelia.aparicio@upc.edu\, https:/
 /biotune.upc.edu/en/bio-tune-final-meeting
CREATED:20230524T065852Z
DESCRIPTION:Symposium\, Workshop and Final Meeting of the Bio-TUNE RISE pr
 oject
LAST-MODIFIED:20250307T134704Z
LOCATION:Buenos Aires (Argentina)
URL:https://biotune.upc.edu/en/bio-tune-final-meeting-symposium
END:VEVENT
END:VCALENDAR
